BEGIN:VCALENDAR
VERSION:2.0
PRODID:-//Takk - ECPv6.15.17.1//NONSGML v1.0//EN
CALSCALE:GREGORIAN
METHOD:PUBLISH
X-ORIGINAL-URL:https://takklille.fr
X-WR-CALDESC:Évènements pour Takk
REFRESH-INTERVAL;VALUE=DURATION:PT1H
X-Robots-Tag:noindex
X-PUBLISHED-TTL:PT1H
BEGIN:VTIMEZONE
TZID:Europe/Paris
BEGIN:DAYLIGHT
TZOFFSETFROM:+0100
TZOFFSETTO:+0200
TZNAME:CEST
DTSTART:20230326T010000
END:DAYLIGHT
BEGIN:STANDARD
TZOFFSETFROM:+0200
TZOFFSETTO:+0100
TZNAME:CET
DTSTART:20231029T010000
END:STANDARD
BEGIN:DAYLIGHT
TZOFFSETFROM:+0100
TZOFFSETTO:+0200
TZNAME:CEST
DTSTART:20240331T010000
END:DAYLIGHT
BEGIN:STANDARD
TZOFFSETFROM:+0200
TZOFFSETTO:+0100
TZNAME:CET
DTSTART:20241027T010000
END:STANDARD
BEGIN:DAYLIGHT
TZOFFSETFROM:+0100
TZOFFSETTO:+0200
TZNAME:CEST
DTSTART:20250330T010000
END:DAYLIGHT
BEGIN:STANDARD
TZOFFSETFROM:+0200
TZOFFSETTO:+0100
TZNAME:CET
DTSTART:20251026T010000
END:STANDARD
BEGIN:DAYLIGHT
TZOFFSETFROM:+0100
TZOFFSETTO:+0200
TZNAME:CEST
DTSTART:20260329T010000
END:DAYLIGHT
BEGIN:STANDARD
TZOFFSETFROM:+0200
TZOFFSETTO:+0100
TZNAME:CET
DTSTART:20261025T010000
END:STANDARD
END:VTIMEZONE
BEGIN:VEVENT
DTSTART;TZID=Europe/Paris:20251121T180000
DTEND;TZID=Europe/Paris:20251121T203000
DTSTAMP:20260419T173356
CREATED:20241002T110557Z
LAST-MODIFIED:20250925T082651Z
UID:806-1763748000-1763757000@takklille.fr
SUMMARY:Le club des aiguilles qui papotent
DESCRIPTION:Venez parler tricot en mode auberge espagnole.L’occasion d’échanger sur vos trouvailles\, difficultés\, envie etc …Un temps d’échange et de convivialité entre novices\, expérimenté(e)s\, confirmé(e)s…\n\nPAF : 5€/pers\n\nPas besoin de s’inscrire en amont
URL:https://takklille.fr/evenement/le-club-des-aiguilles-qui-papotent-3/
ATTACH;FMTTYPE=image/jpeg:https://takklille.fr/wp-content/uploads/2024/07/original_af703c4a-cc05-4642-80bd-639e585dff70_IMG20230922190027-scaled-e1720451175248.jpg
END:VEVENT
BEGIN:VEVENT
DTSTART;TZID=Europe/Paris:20251017T180000
DTEND;TZID=Europe/Paris:20251017T203000
DTSTAMP:20260419T173356
CREATED:20240708T145128Z
LAST-MODIFIED:20250925T082631Z
UID:640-1760724000-1760733000@takklille.fr
SUMMARY:Le club des aiguilles qui papotent
DESCRIPTION:Venez parler tricot en mode auberge espagnole.L’occasion d’échanger sur vos trouvailles\, difficultés\, envie etc …Un temps d’échange et de convivialité entre novices\, expérimenté(e)s\, confirmé(e)s…\n\nPAF : 5€/pers\nPas besoin de s’inscrire en amont
URL:https://takklille.fr/evenement/le-club-des-aiguilles-qui-papotent/
LOCATION:Takk Lille\, 66 Rue d'Esquermes\, Lille\, 59000\, France
ATTACH;FMTTYPE=image/jpeg:https://takklille.fr/wp-content/uploads/2024/07/original_af703c4a-cc05-4642-80bd-639e585dff70_IMG20230922190027-scaled-e1720451175248.jpg
ORGANIZER;CN="Takk Lille":MAILTO:merci@takklille.fr
END:VEVENT
BEGIN:VEVENT
DTSTART;TZID=Europe/Paris:20251015T160000
DTEND;TZID=Europe/Paris:20251015T163000
DTSTAMP:20260419T173356
CREATED:20240708T144657Z
LAST-MODIFIED:20250925T082600Z
UID:637-1760544000-1760545800@takklille.fr
SUMMARY:L'heure du conte - 2\,5/6 ans
DESCRIPTION:Petit temps de lecture chez @takk pour les enfants\, avant de prendre le gouter.Je vous propose de se retrouver pour une vingtaine de minutes autour de livres que j’aurai sélectionnés pour vos enfants (de 2\,5 ans à 6 ans) avec l’envie de partager ce moment avec vos enfants \nGratuitSur inscription en MP\nTous les 15 jours (mercredi) à 16h chez takk
URL:https://takklille.fr/evenement/lheure-du-conte-25-6-ans/
LOCATION:Takk Lille\, 66 Rue d'Esquermes\, Lille\, 59000\, France
ATTACH;FMTTYPE=image/jpeg:https://takklille.fr/wp-content/uploads/2024/07/IMG-20230118-WA0002_2.jpg
ORGANIZER;CN="Takk Lille":MAILTO:merci@takklille.fr
END:VEVENT
BEGIN:VEVENT
DTSTART;TZID=Europe/Paris:20251001T160000
DTEND;TZID=Europe/Paris:20251001T163000
DTSTAMP:20260419T173356
CREATED:20241230T132522Z
LAST-MODIFIED:20250925T082517Z
UID:869-1759334400-1759336200@takklille.fr
SUMMARY:L'heure du conte - 2\,5/6 ans
DESCRIPTION:Petit temps de lecture chez @takk pour les enfants\, avant de prendre le gouter.Je vous propose de se retrouver pour une vingtaine de minutes autour de livres que j’aurai sélectionnés pour vos enfants (de 2\,5 ans à 6 ans) avec l’envie de partager ce moment avec vos enfants \nGratuitSur inscription en MP\nTous les 15 jours à 16h chez takk
URL:https://takklille.fr/evenement/lheure-du-conte-25-6-ans-3/
LOCATION:Takk Lille\, 66 Rue d'Esquermes\, Lille\, 59000\, France
ATTACH;FMTTYPE=image/jpeg:https://takklille.fr/wp-content/uploads/2024/07/IMG-20230118-WA0002_2.jpg
END:VEVENT
BEGIN:VEVENT
DTSTART;TZID=Europe/Paris:20251001T090000
DTEND;TZID=Europe/Paris:20251101T180000
DTSTAMP:20260419T173356
CREATED:20241001T080045Z
LAST-MODIFIED:20250925T082756Z
UID:733-1759309200-1762020000@takklille.fr
SUMMARY:Exposition photo argentique Le Labo
DESCRIPTION:Nouvelle exposition photo chez takk pour le mois d’octobre.\nVenez découvrir les photographies du collectif LE LABO.
URL:https://takklille.fr/evenement/exposition-lora-cabourg-celles-qui-nagent-a-contre-courant/
ATTACH;FMTTYPE=image/jpeg:https://takklille.fr/wp-content/uploads/2024/10/df1cc79c-981e-4849-8a25-649142c31deb.jpeg
END:VEVENT
BEGIN:VEVENT
DTSTART;TZID=Europe/Paris:20250926T180000
DTEND;TZID=Europe/Paris:20250926T203000
DTSTAMP:20260419T173356
CREATED:20241002T105932Z
LAST-MODIFIED:20250925T082540Z
UID:801-1758909600-1758918600@takklille.fr
SUMMARY:Le club des aiguilles qui papotent
DESCRIPTION:Venez parler tricot en mode auberge espagnole.L’occasion d’échanger sur vos trouvailles\, difficultés\, envie etc …Un temps d’échange et de convivialité entre novices\, expérimenté(e)s\, confirmé(e)s…\n\nPAF : 5€/pers\n\nPas besoin de s’inscrire en amont
URL:https://takklille.fr/evenement/le-club-des-aiguilles-qui-papotent-2/
ATTACH;FMTTYPE=image/jpeg:https://takklille.fr/wp-content/uploads/2024/07/original_af703c4a-cc05-4642-80bd-639e585dff70_IMG20230922190027-scaled-e1720451175248.jpg
END:VEVENT
BEGIN:VEVENT
DTSTART;TZID=Europe/Paris:20250430T160000
DTEND;TZID=Europe/Paris:20250430T163000
DTSTAMP:20260419T173356
CREATED:20241230T130003Z
LAST-MODIFIED:20250421T195233Z
UID:812-1746028800-1746030600@takklille.fr
SUMMARY:L'heure du Conte : 2\,5/6 ans
DESCRIPTION:Petit temps de lecture chez @takk pour les enfants\, avant de prendre le gouter.Je vous propose de se retrouver pour une vingtaine de minutes autour de livres que j’aurai sélectionnés pour vos enfants (de 2\,5 ans à 6 ans) avec l’envie de partager ce moment avec vos enfants \nGratuitSur inscription en MP\nTous les 15 jours à 16h chez takk
URL:https://takklille.fr/evenement/lheure-du-conte-25-6-ans-2/
LOCATION:Takk Lille\, 66 Rue d'Esquermes\, Lille\, 59000\, France
ATTACH;FMTTYPE=image/jpeg:https://takklille.fr/wp-content/uploads/2024/07/IMG-20230118-WA0002_2.jpg
END:VEVENT
BEGIN:VEVENT
DTSTART;TZID=Europe/Paris:20250227T093000
DTEND;TZID=Europe/Paris:20250227T113000
DTSTAMP:20260419T173356
CREATED:20250121T163627Z
LAST-MODIFIED:20250214T103207Z
UID:888-1740648600-1740655800@takklille.fr
SUMMARY:ATELIER WEB - GRATUIT - Création de contenus et IA
DESCRIPTION:👩‍💻 Programme de l’atelier : \nChatGPT\, Jasper\, Dokey\, Gemini\, etc\, vous avez sans doute déjà entendu parler de ces outils d’intelligence artificielle. L’IA fait désormais partie du quotidien des professionnels du marketing et devient aussi l’alliée des entrepreneurs ! \nVous souhaitez découvrir comment l’intelligence artificielle peut vous aider à vaincre le syndrome de la page blanche et être plus efficient(e)❓ \nCet atelier vous propose un tour d’horizon des opportunités offertes par l’IA en matière de création de contenus et de marketing numérique pour les entrepreneurs. \n✍ Contenu de l’atelier : \nCet atelier vous propose de voir en détail comment l’IA peut vous aider au quotidien dans la création de vos contenus pour le web. \nNous verrons : \n• Comment l’IA peut s’intégrer dans votre stratégie de création de contenus \n• Comment créer un calendrier éditorial facilement \n• Comment rédiger un prompt efficace pour générer un contenu pertinent \n• L’importance du regard humain pour créer des contenus experts et différenciant \n• Des cas concrets pour illustrer les propos \n👩🏻‍💼 Vous êtes : \n– Dirigeant de TPE\, entrepreneur ou porteur de projets \n– Niveau débutant à intermédiaire \n– Motivé et vous avez très envie d’apprendre et de partager avec nous\, dans une ambiance conviviale et bienveillante \n⏰ Déroulé de l’atelier : \n– 45 min de présentation / mise en contexte \n– 30 min de cas pratique\, exemples concrets issus de la salle (et pourquoi pas le vôtre) et questions / réponses pour repartir avec les idées claires sur vos prochaines actions \nUn temps d’échange et de réseautage entre participants vous sera proposé à l’issue de cet atelier. \nNotre objectif\, à travers cet atelier\, est que vous puissiez prendre du recul et les bonnes décisions pour développer votre activité professionnelle grâce au web. \nN’hésitez pas à vous inscrire pour participer  : https://www.eventbrite.fr/e/billets-creation-de-contenus-et-ia-gagnez-jusqua-2-heures-par-jour-1212551607499?aff=Partenairestakk
URL:https://takklille.fr/evenement/atelier-web-gratuit-takk-ia/
LOCATION:Takk Lille\, 66 Rue d'Esquermes\, Lille\, 59000\, France
ATTACH;FMTTYPE=image/png:https://takklille.fr/wp-content/uploads/2025/01/27-fevrier.png
ORGANIZER;CN="Takk Lille":MAILTO:merci@takklille.fr
END:VEVENT
BEGIN:VEVENT
DTSTART;TZID=Europe/Paris:20241211T090000
DTEND;TZID=Europe/Paris:20241211T120000
DTSTAMP:20260419T173356
CREATED:20241002T203124Z
LAST-MODIFIED:20241002T203254Z
UID:820-1733907600-1733918400@takklille.fr
SUMMARY:La Fresque de l’Alimentation
DESCRIPTION:L’atelier de La Fresque de l’Alimentation est un atelier ludique et pédagogique qui a pour objectif d’accompagner les participant.e.s vers une alimentation plus durable et une prise de conscience des impacts de leur alimentation (environnement\, biodiversité\, santé et résilience territoriale).\nL’atelier s’adapte et propose une version en ligne !\nL’atelier s’inspire de sa grande sœur La Fresque du Climat mais l’avoir déjà fait\, n’est pas un prérequis ! (cliquez ICI pour y participer)L’atelier est basé sur l’intelligence collective\, l’animateur.rice est là pour s’assurer du bon déroulé\, répondre aux questions\, … mais ce sont les participant.e.s qui pratiquent !\nLa partie Réflexion se base sur 40 cartes réparties en 5 lots\, à placer en liant les causes et les conséquences entre elles via des flèches\nL’atelier pousse à la prise d’actions (manger local\, de saison\, alimentation plus végétale\, …)\nL’atelier se base sur des sources scientifiques et reconnues (FAO\, GIEC\, ADEME\, …)\nL’atelier s’adresse aux adultes (une version junior spécifique existe)\, experts ou novices sur le sujet\, déjà engagés ou non vers une alimentation plus durable\, … Bref\, l’atelier s’adresse à quiconque souhaite comprendre ce qu’il.elle mange ! Aucun prérequis n’est demandé pour faire l’atelier !\n> Déroulé :\nL’atelier dure 3h et se découpe en plusieurs étapes :\nDémarrage (30 min) : icebreaker\, présentation des participant.e.s\, de l’animateur.rice\, de l’atelier\, …\nRéflexion (1h15) : étude des causes et conséquences de nos consommations sur le climat\, la biodiversité\, la santé et la résilience alimentaire\nSolutions (30 min) : quelles solutions pouvons-nous mettre en place dès maintenant à notre échelle pour tendre vers une alimentation plus durable ? Quelles sont leurs conséquences ?\nActions (30 min) : choix d’une action individuelle et une action collective pour tendre vers une alimentation plus durable et anticipation des difficultés/freins qui pourraient être rencontrés\nDébrief (15 min) : retours sur l’atelier\, derniers conseils\, quelle suite donner à l’atelier\, …\nCroyez-nous\, ça passe (très) vite !\nSur INSCRIPTION
URL:https://takklille.fr/evenement/la-fresque-de-lalimentation/
ATTACH;FMTTYPE=image/jpeg:https://takklille.fr/wp-content/uploads/2024/10/460487936_1070732511720247_2827860306012600799_n.jpg
END:VEVENT
BEGIN:VEVENT
DTSTART;VALUE=DATE:20241207
DTEND;VALUE=DATE:20241208
DTSTAMP:20260419T173356
CREATED:20241027T065658Z
LAST-MODIFIED:20241027T065755Z
UID:847-1733529600-1733615999@takklille.fr
SUMMARY:Marché de Noël d'artisans et créateurs lillois
DESCRIPTION:Infos à suivre \n10h / 18h30 \n9 créateurs de la métropôle lilloises \nEntrée libre
URL:https://takklille.fr/evenement/marche-de-noel-dartisans-et-createurs-lillois/
ATTACH;FMTTYPE=image/png:https://takklille.fr/wp-content/uploads/2024/10/Capture-decran-2024-10-27-a-07.56.42.png
END:VEVENT
BEGIN:VEVENT
DTSTART;TZID=Europe/Paris:20241116T100000
DTEND;TZID=Europe/Paris:20241116T183000
DTSTAMP:20260419T173356
CREATED:20241002T202934Z
LAST-MODIFIED:20241002T203324Z
UID:817-1731751200-1731781800@takklille.fr
SUMMARY:Kids Day !!!
DESCRIPTION:SAVE THE DATE SAMEDI 16 NOVEMBRE nous lançons la 2ème édition du Kids Day chez @takk_lille en collaboration avec @friperiekids_beauxgosses et @atelier_zut_france !\nAu programme\, une journée dédiée aux enfants avec un marché de créateurs\, des ateliers créatifs avec @atelier_zut_france \, un concours de dessin et l’heure du conte !Et takk ouvert normalement pour vos petits déjeuners\, déjeuners et goûters.\nGardez bien la date en tête. On vous en dit plus par la suite !\nAvec:@friperiekids_beaugosses@atelier_zut_france\nEntrée libre
URL:https://takklille.fr/evenement/kids-day/
ATTACH;FMTTYPE=image/jpeg:https://takklille.fr/wp-content/uploads/2024/10/affiche-kids-day.jpg
END:VEVENT
BEGIN:VEVENT
DTSTART;TZID=Europe/Paris:20241107T090000
DTEND;TZID=Europe/Paris:20241107T120000
DTSTAMP:20260419T173356
CREATED:20241027T064842Z
LAST-MODIFIED:20241027T064842Z
UID:840-1730970000-1730980800@takklille.fr
SUMMARY:Fresque du Sexisme
DESCRIPTION:Une expérience ludique et collaborative visant à décortiquer le système sexiste dans le but de contribuer à une société plus égalitaire.Comment ? Par la pédagogie puis la mise en action.\nInspiré du génie pédagogique de La Fresque du Climat\, cet atelier permet de mieux comprendre les rouages du système sexiste actuel à l’aide de cartes.\nÀ travers une approche synthétique et un déroulement collaboratif\, une équipe de 4 à 8 personnes suit les 3 phases de l’atelier suivantes :\n► DÉROULÉ :– 15 minutes de mise en route\,– 1h15 de mise en lien des composantes du système sexiste\,– 1h30 de créativité et réflexion sur les actions possibles du quotidien.\nSur inscription : https://www.billetweb.fr/atelier-la-fresque-du-sexisme-lille
URL:https://takklille.fr/evenement/fresque-du-sexisme/
ATTACH;FMTTYPE=image/png:https://takklille.fr/wp-content/uploads/2024/10/Capture-decran-2024-10-27-a-07.48.24.png
END:VEVENT
BEGIN:VEVENT
DTSTART;TZID=Europe/Paris:20241106T090000
DTEND;TZID=Europe/Paris:20241106T120000
DTSTAMP:20260419T173356
CREATED:20241002T202841Z
LAST-MODIFIED:20241002T203413Z
UID:814-1730883600-1730894400@takklille.fr
SUMMARY:Fresque de l'économie circulaire
DESCRIPTION:Participer à un atelier de La fresque de l’Économie circulaire pour mieux comprendre les enjeux liés à l’utilisation des ressources naturelles\nQuelles sont les ressources en tension? Quels impacts génèrent notre consommation ?\nComment puis-je contribuer dans mon quotidien? Comment les entreprises peuvent-elles faire évoluer leurs modèles ?\nVous êtes curieux de découvrir les réponses et en savoir plus sur le changement climatique\, la perte de biodiversité\, l’épuisement des ressources ou encore la pollution générée par les activités humaines et vous avez envie d’agir ? Venez participer à un atelier de la Fresque de l’économie circulaire pour en apprendre plus\, et trouvez des pistes d’action concrètes !\nA propos de l’atelier\nLa Fresque de l’Économie Circulaire est un atelier d’intelligence collective\, ludique et scientifique\, pour saisir les limites de l’économie linéaire et comprendre les opportunités offertes par l’économie circulaire. Inspiré de la Fresque du Climat\, cet atelier vous permettra de comprendre les enjeux liés à l’utilisation des ressources et la gestion des déchets ainsi que les impacts induits par les activités humaines. L’atelier dure 3 heures et se déroule par groupe de 6/7 personnes avec 1 animateur.\nBien que la Fresque de l’Économie Circulaire s’adresse à tous; grand public\, entreprises\, collectivités et écoles\, quel que soit votre niveau de connaissance\, cet atelier en particulier est destiné au grand public. Tolérance concernant des personnes internes à une entreprise : 1 personne par atelier/entreprise.\nCe que ca peut vous apporter\nAprès avoir approfondi les limites du système de production-consommation linéaire\, venez découvrir des modèles plus vertueux\, économes en ressources naturelles et moins producteurs de déchets qui permettent de « circulariser » notre système !\nCet atelier est à tarif standard ou réduit (solidaire\, chomage\, étudiant). Le nombre de places est limité donc il est indispensable de s’inscrire pour participer. Merci!\nhttps://www.lafresquedeleconomiecirculaire.com/…/lille-3
URL:https://takklille.fr/evenement/fresque-de-leconomie-circulaire/
ATTACH;FMTTYPE=image/jpeg:https://takklille.fr/wp-content/uploads/2024/10/459957250_1067561158704049_3980332469567133592_n.jpg
END:VEVENT
BEGIN:VEVENT
DTSTART;TZID=Europe/Paris:20241001T080000
DTEND;TZID=Europe/Paris:20241104T170000
DTSTAMP:20260419T173356
CREATED:20241002T202351Z
LAST-MODIFIED:20241002T202351Z
UID:809-1727769600-1730739600@takklille.fr
SUMMARY:Exposition Les Murs Insurgés et autres dissidences
DESCRIPTION: Immersion dans l’univers du collage féministe à travers un photo-reportage.\nQuoi? La photographie militante comme action directe\nOù ? @takk_lille \, 66 rue d’Esquermes\, 59000 Lille\n Quand? Du 01/10 au 04/11 2024\n @ms_citystories\n\nEntrée libre
URL:https://takklille.fr/evenement/exposition-les-murs-insurges-et-autres-dissidences/
ATTACH;FMTTYPE=image/jpeg:https://takklille.fr/wp-content/uploads/2024/10/461066938_1073502481443250_2795797473282773044_n.jpg
END:VEVENT
BEGIN:VEVENT
DTSTART;TZID=Europe/Paris:20240802T090000
DTEND;TZID=Europe/Paris:20240825T180000
DTSTAMP:20260419T173356
CREATED:20240708T145707Z
LAST-MODIFIED:20240708T145707Z
UID:643-1722589200-1724608800@takklille.fr
SUMMARY:Les vacances !!!
DESCRIPTION:Nous serons fermé du vendredi 2 août inclus au dimanche 25 août pour nous reposer un petit peu ! \nRDV dès le lundi 26 août en pleine forme !
URL:https://takklille.fr/evenement/les-vacances/
LOCATION:Takk Lille\, 66 Rue d'Esquermes\, Lille\, 59000\, France
ATTACH;FMTTYPE=image/jpeg:https://takklille.fr/wp-content/uploads/2024/07/IMG_20210610_135403-2-scaled-e1720451154840.jpg
ORGANIZER;CN="Takk Lille":MAILTO:merci@takklille.fr
END:VEVENT
END:VCALENDAR